BEGIN:VCALENDAR
VERSION:2.0
PRODID:-//wp-events-plugin.com//7.2.3.1//EN
BEGIN:VEVENT
UID:1@beachskola.cz
DTSTART;TZID=Europe/Berlin;VALUE=DATE:20240318
DTEND;TZID=Europe/Berlin;VALUE=DATE:20240319
DTSTAMP:20240118T194251Z
URL:https://www.beachskola.cz/events/oblibeny-brezinek/
SUMMARY:Oblíbený Březínek
DESCRIPTION:A je tu zase Březínek. Přijď si zahrát!\n\nPrezentace v 8:
 00\n\nStart v 9:00\n\n&nbsp\;
END:VEVENT
BEGIN:VTIMEZONE
TZID:Europe/Berlin
X-LIC-LOCATION:Europe/Berlin
BEGIN:STANDARD
DTSTART:20231029T020000
TZOFFSETFROM:+0200
TZOFFSETTO:+0100
TZNAME:CET
END:STANDARD
END:VTIMEZONE
END:VCALENDAR